BEGIN:VCALENDAR
VERSION:2.0
PRODID:-//Club d&#039;Échecs de Court - ECPv6.15.18//NONSGML v1.0//EN
CALSCALE:GREGORIAN
METHOD:PUBLISH
X-ORIGINAL-URL:https://cecourt.ch
X-WR-CALDESC:Évènements pour Club d&#039;Échecs de Court
REFRESH-INTERVAL;VALUE=DURATION:PT1H
X-Robots-Tag:noindex
X-PUBLISHED-TTL:PT1H
BEGIN:VTIMEZONE
TZID:Europe/Helsinki
BEGIN:DAYLIGHT
TZOFFSETFROM:+0200
TZOFFSETTO:+0300
TZNAME:EEST
DTSTART:20240331T010000
END:DAYLIGHT
BEGIN:STANDARD
TZOFFSETFROM:+0300
TZOFFSETTO:+0200
TZNAME:EET
DTSTART:20241027T010000
END:STANDARD
BEGIN:DAYLIGHT
TZOFFSETFROM:+0200
TZOFFSETTO:+0300
TZNAME:EEST
DTSTART:20250330T010000
END:DAYLIGHT
BEGIN:STANDARD
TZOFFSETFROM:+0300
TZOFFSETTO:+0200
TZNAME:EET
DTSTART:20251026T010000
END:STANDARD
BEGIN:DAYLIGHT
TZOFFSETFROM:+0200
TZOFFSETTO:+0300
TZNAME:EEST
DTSTART:20260329T010000
END:DAYLIGHT
BEGIN:STANDARD
TZOFFSETFROM:+0300
TZOFFSETTO:+0200
TZNAME:EET
DTSTART:20261025T010000
END:STANDARD
END:VTIMEZONE
BEGIN:VEVENT
DTSTART;TZID=Europe/Helsinki:20250612T200000
DTEND;TZID=Europe/Helsinki:20250612T220000
DTSTAMP:20260422T094413
CREATED:20250615T124411Z
LAST-MODIFIED:20250615T124411Z
UID:1059-1749758400-1749765600@cecourt.ch
SUMMARY:2e tournoi de blitz interne
DESCRIPTION:Cadence : 5′ + 0
URL:https://cecourt.ch/evenement/2e-tournoi-de-blitz-interne/
LOCATION:Local de jeu\, Rue de la Valle 19\, Court\, 2738\, Switzerland
END:VEVENT
END:VCALENDAR