BEGIN:VCALENDAR
VERSION:2.0
PRODID:-//Club d&#039;Échecs de Court - ECPv6.15.18//NONSGML v1.0//EN
CALSCALE:GREGORIAN
METHOD:PUBLISH
X-WR-CALNAME:Club d&#039;Échecs de Court
X-ORIGINAL-URL:https://cecourt.ch
X-WR-CALDESC:Évènements pour Club d&#039;Échecs de Court
REFRESH-INTERVAL;VALUE=DURATION:PT1H
X-Robots-Tag:noindex
X-PUBLISHED-TTL:PT1H
BEGIN:VTIMEZONE
TZID:Europe/Helsinki
BEGIN:DAYLIGHT
TZOFFSETFROM:+0200
TZOFFSETTO:+0300
TZNAME:EEST
DTSTART:20240331T010000
END:DAYLIGHT
BEGIN:STANDARD
TZOFFSETFROM:+0300
TZOFFSETTO:+0200
TZNAME:EET
DTSTART:20241027T010000
END:STANDARD
BEGIN:DAYLIGHT
TZOFFSETFROM:+0200
TZOFFSETTO:+0300
TZNAME:EEST
DTSTART:20250330T010000
END:DAYLIGHT
BEGIN:STANDARD
TZOFFSETFROM:+0300
TZOFFSETTO:+0200
TZNAME:EET
DTSTART:20251026T010000
END:STANDARD
BEGIN:DAYLIGHT
TZOFFSETFROM:+0200
TZOFFSETTO:+0300
TZNAME:EEST
DTSTART:20260329T010000
END:DAYLIGHT
BEGIN:STANDARD
TZOFFSETFROM:+0300
TZOFFSETTO:+0200
TZNAME:EET
DTSTART:20261025T010000
END:STANDARD
END:VTIMEZONE
BEGIN:VEVENT
DTSTART;TZID=Europe/Helsinki:20251213T140000
DTEND;TZID=Europe/Helsinki:20251213T180000
DTSTAMP:20260422T001536
CREATED:20251016T143511Z
LAST-MODIFIED:20251119T134806Z
UID:1127-1765634400-1765648800@cecourt.ch
SUMMARY:CSG - Ronde 3
DESCRIPTION:Matchs :\n\n1LR : Court 1 – Basel Sorab 1 (d)\n2LR : Porrentruy Echiquier Bruntrutain 2 – Court 2 (e)\n3LR : SK Biel 3 – Court 3 (e)\n\n*d =  domicile / e = extérieur*
URL:https://cecourt.ch/evenement/cse-ronde-3-2/
END:VEVENT
END:VCALENDAR