BEGIN:VCALENDAR
VERSION:2.0
PRODID:-//Club d&#039;Échecs de Court - ECPv6.15.18//NONSGML v1.0//EN
CALSCALE:GREGORIAN
METHOD:PUBLISH
X-WR-CALNAME:Club d&#039;Échecs de Court
X-ORIGINAL-URL:https://cecourt.ch
X-WR-CALDESC:Évènements pour Club d&#039;Échecs de Court
REFRESH-INTERVAL;VALUE=DURATION:PT1H
X-Robots-Tag:noindex
X-PUBLISHED-TTL:PT1H
BEGIN:VTIMEZONE
TZID:Europe/Helsinki
BEGIN:DAYLIGHT
TZOFFSETFROM:+0200
TZOFFSETTO:+0300
TZNAME:EEST
DTSTART:20240331T010000
END:DAYLIGHT
BEGIN:STANDARD
TZOFFSETFROM:+0300
TZOFFSETTO:+0200
TZNAME:EET
DTSTART:20241027T010000
END:STANDARD
BEGIN:DAYLIGHT
TZOFFSETFROM:+0200
TZOFFSETTO:+0300
TZNAME:EEST
DTSTART:20250330T010000
END:DAYLIGHT
BEGIN:STANDARD
TZOFFSETFROM:+0300
TZOFFSETTO:+0200
TZNAME:EET
DTSTART:20251026T010000
END:STANDARD
BEGIN:DAYLIGHT
TZOFFSETFROM:+0200
TZOFFSETTO:+0300
TZNAME:EEST
DTSTART:20260329T010000
END:DAYLIGHT
BEGIN:STANDARD
TZOFFSETFROM:+0300
TZOFFSETTO:+0200
TZNAME:EET
DTSTART:20261025T010000
END:STANDARD
BEGIN:DAYLIGHT
TZOFFSETFROM:+0200
TZOFFSETTO:+0300
TZNAME:EEST
DTSTART:20270328T010000
END:DAYLIGHT
BEGIN:STANDARD
TZOFFSETFROM:+0300
TZOFFSETTO:+0200
TZNAME:EET
DTSTART:20271031T010000
END:STANDARD
END:VTIMEZONE
BEGIN:VEVENT
DTSTART;VALUE=DATE:20260419
DTEND;VALUE=DATE:20260420
DTSTAMP:20260421T153550
CREATED:20260228T115120Z
LAST-MODIFIED:20260228T115120Z
UID:1253-1776556800-1776643199@cecourt.ch
SUMMARY:CSE - Ronde 2 LNB
DESCRIPTION:Match :\nLNB\, Ouest : Schwarz-Weiss Bern 1 – Court 1 (e) \n*d =  domicile / e = extérieur*
URL:https://cecourt.ch/evenement/cse-ronde-2-lnb/
CATEGORIES:CSE
END:VEVENT
BEGIN:VEVENT
DTSTART;TZID=Europe/Helsinki:20260418T140000
DTEND;TZID=Europe/Helsinki:20260418T180000
DTSTAMP:20260421T153550
CREATED:20260228T112248Z
LAST-MODIFIED:20260228T112248Z
UID:1239-1776520800-1776535200@cecourt.ch
SUMMARY:CSE - Ronde 2
DESCRIPTION:Matchs :\n\n2LR : Birseck 1 – Court 2 (e)\n3LR : Court 3 pas de match\n\n*d =  domicile / e = extérieur*
URL:https://cecourt.ch/evenement/cse-ronde-2-3/
CATEGORIES:CSE
END:VEVENT
BEGIN:VEVENT
DTSTART;TZID=Europe/Helsinki:20260416T200000
DTEND;TZID=Europe/Helsinki:20260416T213000
DTSTAMP:20260421T153550
CREATED:20260228T102629Z
LAST-MODIFIED:20260228T102629Z
UID:1209-1776369600-1776375000@cecourt.ch
SUMMARY:Cours avec Christophe Rohrer
DESCRIPTION:
URL:https://cecourt.ch/evenement/cours-avec-christophe-rohrer-2/
LOCATION:Local de jeu\, Rue de la Valle 19\, Court\, 2738\, Switzerland
CATEGORIES:Cours Rohrer
END:VEVENT
BEGIN:VEVENT
DTSTART;TZID=Europe/Helsinki:20260402T200000
DTEND;TZID=Europe/Helsinki:20260402T220000
DTSTAMP:20260421T153550
CREATED:20260228T104249Z
LAST-MODIFIED:20260228T104249Z
UID:1220-1775160000-1775167200@cecourt.ch
SUMMARY:Tournoi blitz 1
DESCRIPTION:
URL:https://cecourt.ch/evenement/tournoi-blitz-1-2/
LOCATION:Local de jeu\, Rue de la Valle 19\, Court\, 2738\, Switzerland
CATEGORIES:Tournois blitz
ORGANIZER;CN="Nicolas Fortier (CEC)":MAILTO:nicolas.fortier@net2000.ch
END:VEVENT
BEGIN:VEVENT
DTSTART;VALUE=DATE:20260326
DTEND;VALUE=DATE:20260327
DTSTAMP:20260421T153550
CREATED:20260228T103418Z
LAST-MODIFIED:20260228T103418Z
UID:1217-1774483200-1774569599@cecourt.ch
SUMMARY:Coupe Jurassienne - 1/2 finale
DESCRIPTION:
URL:https://cecourt.ch/evenement/coupe-jurassienne-1-2-finale/
LOCATION:Local de jeu\, Rue de la Valle 19\, Court\, 2738\, Switzerland
CATEGORIES:Tournois régionaux
END:VEVENT
BEGIN:VEVENT
DTSTART;TZID=Europe/Helsinki:20260319T200000
DTEND;TZID=Europe/Helsinki:20260319T213000
DTSTAMP:20260421T153550
CREATED:20260228T101532Z
LAST-MODIFIED:20260228T101532Z
UID:1204-1773950400-1773955800@cecourt.ch
SUMMARY:Cours avec Christophe Rohrer
DESCRIPTION:
URL:https://cecourt.ch/evenement/cours-avec-christophe-rohrer/
LOCATION:Local de jeu\, Rue de la Valle 19\, Court\, 2738\, Switzerland
CATEGORIES:Cours Rohrer
END:VEVENT
BEGIN:VEVENT
DTSTART;TZID=Europe/Helsinki:20260319T190000
DTEND;TZID=Europe/Helsinki:20260319T220000
DTSTAMP:20260421T153550
CREATED:20260228T102446Z
LAST-MODIFIED:20260228T102446Z
UID:1206-1773946800-1773957600@cecourt.ch
SUMMARY:Émission "Couleures Locales" de la RTS
DESCRIPTION:Jeudi 19 mars viendra la RTS au local du CE Court pour faire une émission\, qui passera à l’émission « Couleurs Locales »\, sur les échecs et spécialement sur le mouvement jeunesse.
URL:https://cecourt.ch/evenement/emission-couleurs-locales/
LOCATION:Local de jeu\, Rue de la Valle 19\, Court\, 2738\, Switzerland
END:VEVENT
BEGIN:VEVENT
DTSTART;VALUE=DATE:20260315
DTEND;VALUE=DATE:20260316
DTSTAMP:20260421T153550
CREATED:20260228T114929Z
LAST-MODIFIED:20260228T120238Z
UID:1251-1773532800-1773619199@cecourt.ch
SUMMARY:CSE - Ronde 1 LNB
DESCRIPTION:Match :\nLNB\, Ouest : Court 1 – Olten 1 (d) \n*d =  domicile / e = extérieur*
URL:https://cecourt.ch/evenement/cse-ronde-1-lnb/
LOCATION:Local de jeu\, Rue de la Valle 19\, Court\, 2738\, Switzerland
CATEGORIES:CSE
END:VEVENT
BEGIN:VEVENT
DTSTART;TZID=Europe/Helsinki:20260314T140000
DTEND;TZID=Europe/Helsinki:20260314T180000
DTSTAMP:20260421T153550
CREATED:20260228T111940Z
LAST-MODIFIED:20260228T112049Z
UID:1235-1773496800-1773511200@cecourt.ch
SUMMARY:CSE - Ronde 1
DESCRIPTION:Matchs :\n\n2LR : Court 2 – Neuchâtel 2 (d)\n3LR : Echiquier Bruntrutain 2 – Court 3 (e)\n\n*d =  domicile / e = extérieur*
URL:https://cecourt.ch/evenement/cse-ronde-1-2/
CATEGORIES:CSE
END:VEVENT
BEGIN:VEVENT
DTSTART;TZID=Europe/Helsinki:20260312T193000
DTEND;TZID=Europe/Helsinki:20260312T223000
DTSTAMP:20260421T153550
CREATED:20260228T101117Z
LAST-MODIFIED:20260228T101117Z
UID:1202-1773343800-1773354600@cecourt.ch
SUMMARY:Championnat jurassien par équipe
DESCRIPTION:
URL:https://cecourt.ch/evenement/championnat-jurassien-par-equipe/
LOCATION:Local de jeu\, Rue de la Valle 19\, Court\, 2738\, Switzerland
CATEGORIES:Tournois régionaux
END:VEVENT
BEGIN:VEVENT
DTSTART;TZID=Europe/Helsinki:20260307T140000
DTEND;TZID=Europe/Helsinki:20260307T180000
DTSTAMP:20260421T153550
CREATED:20260117T095909Z
LAST-MODIFIED:20260117T095909Z
UID:1181-1772892000-1772906400@cecourt.ch
SUMMARY:CSG - Ronde 7
DESCRIPTION:Matchs :\n\n1LR : Court 1 – Baden-Brugg 1 (d)\n2LR : Court 2 – Mett-Madretsch 2 (d)\n3LR : Court 3 – SK Biel 2 (d)\n\n*d =  domicile / e = extérieur*
URL:https://cecourt.ch/evenement/csg-ronde-7-2/
END:VEVENT
BEGIN:VEVENT
DTSTART;TZID=Europe/Helsinki:20260305T200000
DTEND;TZID=Europe/Helsinki:20260305T213000
DTSTAMP:20260421T153550
CREATED:20260228T100722Z
LAST-MODIFIED:20260228T100722Z
UID:1200-1772740800-1772746200@cecourt.ch
SUMMARY:Cours avec Christophe Rohrer
DESCRIPTION:
URL:https://cecourt.ch/evenement/cours-rohrer/
LOCATION:Local de jeu\, Rue de la Valle 19\, Court\, 2738\, Switzerland
CATEGORIES:Cours Rohrer
END:VEVENT
BEGIN:VEVENT
DTSTART;TZID=Europe/Helsinki:20260221T140000
DTEND;TZID=Europe/Helsinki:20260221T180000
DTSTAMP:20260421T153550
CREATED:20260117T095652Z
LAST-MODIFIED:20260117T095652Z
UID:1179-1771682400-1771696800@cecourt.ch
SUMMARY:CSG - Ronde 6
DESCRIPTION:Matchs :\n\n1LR : Court 1 – Aarau 1 (d)\n2LR : Mett-Madretsch 1 – Court 2 (e)\n3LR : Solothurn 2 – Court 3 (e)\n\n*d =  domicile / e = extérieur*
URL:https://cecourt.ch/evenement/csg-ronde-6-2/
END:VEVENT
BEGIN:VEVENT
DTSTART;TZID=Europe/Helsinki:20260207T140000
DTEND;TZID=Europe/Helsinki:20260207T180000
DTSTAMP:20260421T153550
CREATED:20260117T095416Z
LAST-MODIFIED:20260117T095416Z
UID:1177-1770472800-1770487200@cecourt.ch
SUMMARY:CSG - Ronde 5
DESCRIPTION:Matchs :\n\n1LR : Basel SG 1 – Court 1 (e)\n2LR : Solothurn 1 – Court 2 (e)\n3LR : Grenchen 2 – Court 3 (e)\n\n*d =  domicile / e = extérieur*
URL:https://cecourt.ch/evenement/csg-ronde-5-3/
END:VEVENT
BEGIN:VEVENT
DTSTART;TZID=Europe/Helsinki:20260130T183000
DTEND;TZID=Europe/Helsinki:20260130T200000
DTSTAMP:20260421T153550
CREATED:20260117T101139Z
LAST-MODIFIED:20260129T160623Z
UID:1187-1769797800-1769803200@cecourt.ch
SUMMARY:Assemblée générale 2026 du CE Court
DESCRIPTION:selon infos reçus par courriel
URL:https://cecourt.ch/evenement/assemblee-generale-2026-du-ce-court/
LOCATION:Local de jeu\, Rue de la Valle 19\, Court\, 2738\, Switzerland
END:VEVENT
BEGIN:VEVENT
DTSTART;TZID=Europe/Helsinki:20260124T140000
DTEND;TZID=Europe/Helsinki:20260124T180000
DTSTAMP:20260421T153550
CREATED:20260117T095130Z
LAST-MODIFIED:20260117T095130Z
UID:1174-1769263200-1769277600@cecourt.ch
SUMMARY:CSG - Ronde 4
DESCRIPTION:Matchs :\n\n1LR : SG Riehen 2 – Court 1 (e)\n2LR : Court 2 – Grenchen 1 (d)\n3LR : Court 3 – Neuchâtel 2 (d)\n\n*d =  domicile / e = extérieur*
URL:https://cecourt.ch/evenement/csg-ronde-4-2/
END:VEVENT
BEGIN:VEVENT
DTSTART;TZID=Europe/Helsinki:20260117T100000
DTEND;TZID=Europe/Helsinki:20260117T183000
DTSTAMP:20260421T153550
CREATED:20260117T094827Z
LAST-MODIFIED:20260117T094827Z
UID:1172-1768644000-1768674600@cecourt.ch
SUMMARY:CSJE - Rondes 3 & 4 - LNB
DESCRIPTION:10h00 : Court 1 – Thunersee 1 \n14h00 : Olten 1 – Court 1
URL:https://cecourt.ch/evenement/csje-rondes-3-4-lnb/
LOCATION:Local de jeu\, Rue de la Valle 19\, Court\, 2738\, Switzerland
END:VEVENT
BEGIN:VEVENT
DTSTART;TZID=Europe/Helsinki:20260103T140000
DTEND;TZID=Europe/Helsinki:20260103T200000
DTSTAMP:20260421T153550
CREATED:20260117T100323Z
LAST-MODIFIED:20260117T100323Z
UID:1183-1767448800-1767470400@cecourt.ch
SUMMARY:Jass du Petit Nouvel-An
DESCRIPTION:
URL:https://cecourt.ch/evenement/jass-du-petit-nouvel-an-2/
LOCATION:Commune de Court\, Rue de la Valle 19\, Court\, Berne\, 2738\, Switzerland
END:VEVENT
BEGIN:VEVENT
DTSTART;TZID=Europe/Helsinki:20251218T193000
DTEND;TZID=Europe/Helsinki:20251218T230000
DTSTAMP:20260421T153550
CREATED:20251119T134550Z
LAST-MODIFIED:20251119T134828Z
UID:1166-1766086200-1766098800@cecourt.ch
SUMMARY:Apéro de fin d'année (à définir)
DESCRIPTION:
URL:https://cecourt.ch/evenement/apero-de-fin-dannee/
LOCATION:Local de jeu\, Rue de la Valle 19\, Court\, 2738\, Switzerland
CATEGORIES:Club
END:VEVENT
BEGIN:VEVENT
DTSTART;TZID=Europe/Helsinki:20251213T140000
DTEND;TZID=Europe/Helsinki:20251213T180000
DTSTAMP:20260421T153550
CREATED:20251016T143511Z
LAST-MODIFIED:20251119T134806Z
UID:1127-1765634400-1765648800@cecourt.ch
SUMMARY:CSG - Ronde 3
DESCRIPTION:Matchs :\n\n1LR : Court 1 – Basel Sorab 1 (d)\n2LR : Porrentruy Echiquier Bruntrutain 2 – Court 2 (e)\n3LR : SK Biel 3 – Court 3 (e)\n\n*d =  domicile / e = extérieur*
URL:https://cecourt.ch/evenement/cse-ronde-3-2/
END:VEVENT
BEGIN:VEVENT
DTSTART;TZID=Europe/Helsinki:20251211T200000
DTEND;TZID=Europe/Helsinki:20251211T220000
DTSTAMP:20260421T153550
CREATED:20251119T134428Z
LAST-MODIFIED:20251119T134428Z
UID:1164-1765483200-1765490400@cecourt.ch
SUMMARY:Finale coupe interne
DESCRIPTION:
URL:https://cecourt.ch/evenement/finale-coupe-interne/
LOCATION:Local de jeu\, Rue de la Valle 19\, Court\, 2738\, Switzerland
CATEGORIES:Tournois internes
END:VEVENT
BEGIN:VEVENT
DTSTART;TZID=Europe/Helsinki:20251204T200000
DTEND;TZID=Europe/Helsinki:20251204T220000
DTSTAMP:20260421T153550
CREATED:20251119T134318Z
LAST-MODIFIED:20251119T134318Z
UID:1162-1764878400-1764885600@cecourt.ch
SUMMARY:Tournoi interne : Blitz 3'+2
DESCRIPTION:
URL:https://cecourt.ch/evenement/tournoi-interne-blitz-32/
LOCATION:Local de jeu\, Rue de la Valle 19\, Court\, 2738\, Switzerland
CATEGORIES:Tournois internes
END:VEVENT
BEGIN:VEVENT
DTSTART;TZID=Europe/Helsinki:20251122T140000
DTEND;TZID=Europe/Helsinki:20251122T180000
DTSTAMP:20260421T153550
CREATED:20251016T143236Z
LAST-MODIFIED:20251119T134748Z
UID:1125-1763820000-1763834400@cecourt.ch
SUMMARY:CSG - Ronde 2
DESCRIPTION:Matchs :\n\n1LR : Court 1 – Porrentruy Echiquier Bruntrutain 1 (d)\n2LR : Court 2 – Lyss-Seeland 1 (d)\n3LR : Jura 1 – Court 3 (e)\n\n*d =  domicile / e = extérieur*
URL:https://cecourt.ch/evenement/cse-ronde-2-2/
END:VEVENT
BEGIN:VEVENT
DTSTART;TZID=Europe/Helsinki:20251120T200000
DTEND;TZID=Europe/Helsinki:20251120T220000
DTSTAMP:20260421T153550
CREATED:20251119T134203Z
LAST-MODIFIED:20251119T134203Z
UID:1160-1763668800-1763676000@cecourt.ch
SUMMARY:Tournoi interne : Blitz 5'+0
DESCRIPTION:
URL:https://cecourt.ch/evenement/tournoi-interne-blitz-50/
LOCATION:Local de jeu\, Rue de la Valle 19\, Court\, 2738\, Switzerland
CATEGORIES:Tournois internes
END:VEVENT
BEGIN:VEVENT
DTSTART;TZID=Europe/Helsinki:20251115T100000
DTEND;TZID=Europe/Helsinki:20251115T170000
DTSTAMP:20260421T153550
CREATED:20251016T142544Z
LAST-MODIFIED:20251016T142544Z
UID:1120-1763200800-1763226000@cecourt.ch
SUMMARY:CSJE 25-26 - Rondes 1&2
DESCRIPTION:10h00 : Court 1 – Solothurn 1 \n14h00 : Bümplitz Future Kids – Court 1
URL:https://cecourt.ch/evenement/csje-25-26-rondes-12/
LOCATION:Schachklub Solothurn\, Industriestrasse 5\, Solothurn\, Solothurn\, 4500\, Switzerland
END:VEVENT
BEGIN:VEVENT
DTSTART;TZID=Europe/Helsinki:20251101T140000
DTEND;TZID=Europe/Helsinki:20251101T180000
DTSTAMP:20260421T153550
CREATED:20251016T143026Z
LAST-MODIFIED:20251016T143026Z
UID:1123-1762005600-1762020000@cecourt.ch
SUMMARY:CSG - Ronde 1
DESCRIPTION:Matchs :\n\n1LR : Therwil 1 – Court 1 (e)\n2LR : Biel SG 1 – Court 2 (e)\n3LR : Court 3 – Biel SG 2 (d)\n\n*d =  domicile / e = extérieur*
URL:https://cecourt.ch/evenement/csg-ronde-1-2/
END:VEVENT
BEGIN:VEVENT
DTSTART;TZID=Europe/Helsinki:20251025T140000
DTEND;TZID=Europe/Helsinki:20251025T190000
DTSTAMP:20260421T153550
CREATED:20251016T141913Z
LAST-MODIFIED:20251016T141913Z
UID:1118-1761400800-1761418800@cecourt.ch
SUMMARY:Finale de promotion 1LR-LNB (Court 1)
DESCRIPTION:
URL:https://cecourt.ch/evenement/finale-de-promotion-1lr-lnb-court-1/
LOCATION:Local de jeu\, Rue de la Valle 19\, Court\, 2738\, Switzerland
END:VEVENT
BEGIN:VEVENT
DTSTART;TZID=Europe/Helsinki:20250913T140000
DTEND;TZID=Europe/Helsinki:20250913T180000
DTSTAMP:20260421T153550
CREATED:20250407T110146Z
LAST-MODIFIED:20250407T110943Z
UID:1009-1757772000-1757786400@cecourt.ch
SUMMARY:CSE - Ronde 7
DESCRIPTION:Matchs :\n\n1LR : Thun 1 – Court 1 (e)\n2LR : Mett-Madretsch 1 – Court 2 (e)\n\n*d =  domicile / e = extérieur*
URL:https://cecourt.ch/evenement/cse-ronde-7/
END:VEVENT
BEGIN:VEVENT
DTSTART;TZID=Europe/Helsinki:20250823T140000
DTEND;TZID=Europe/Helsinki:20250823T180000
DTSTAMP:20260421T153550
CREATED:20250407T105915Z
LAST-MODIFIED:20250407T110839Z
UID:1007-1755957600-1755972000@cecourt.ch
SUMMARY:CSE - Ronde 6
DESCRIPTION:Matchs :\n\n1LR : Birseck 1 – Court 1 (e)\n2LR : Court 2 – Neuchâtel 2 (d)\n\n*d =  domicile / e = extérieur*
URL:https://cecourt.ch/evenement/cse-ronde-6/
END:VEVENT
BEGIN:VEVENT
DTSTART;VALUE=DATE:20250712
DTEND;VALUE=DATE:20250713
DTSTAMP:20260421T153550
CREATED:20250407T112559Z
LAST-MODIFIED:20250407T112559Z
UID:1014-1752278400-1752364799@cecourt.ch
SUMMARY:Pique-nique du CEC
DESCRIPTION:Voici le programme :\n\nGrillade pour le repas du midi\n\nCet événement est réservé aux membres du Club d’échecs de Court.
URL:https://cecourt.ch/evenement/pique-nique-du-cec/
LOCATION:Gai Refuge du Ski-Club Eschert\, Eschert\, Berne\, 2743
END:VEVENT
END:VCALENDAR