BEGIN:VCALENDAR
VERSION:2.0
PRODID:-//Club d&#039;Échecs de Court - ECPv6.15.18//NONSGML v1.0//EN
CALSCALE:GREGORIAN
METHOD:PUBLISH
X-WR-CALNAME:Club d&#039;Échecs de Court
X-ORIGINAL-URL:https://cecourt.ch
X-WR-CALDESC:Évènements pour Club d&#039;Échecs de Court
REFRESH-INTERVAL;VALUE=DURATION:PT1H
X-Robots-Tag:noindex
X-PUBLISHED-TTL:PT1H
BEGIN:VTIMEZONE
TZID:Europe/Helsinki
BEGIN:DAYLIGHT
TZOFFSETFROM:+0200
TZOFFSETTO:+0300
TZNAME:EEST
DTSTART:20250330T010000
END:DAYLIGHT
BEGIN:STANDARD
TZOFFSETFROM:+0300
TZOFFSETTO:+0200
TZNAME:EET
DTSTART:20251026T010000
END:STANDARD
BEGIN:DAYLIGHT
TZOFFSETFROM:+0200
TZOFFSETTO:+0300
TZNAME:EEST
DTSTART:20260329T010000
END:DAYLIGHT
BEGIN:STANDARD
TZOFFSETFROM:+0300
TZOFFSETTO:+0200
TZNAME:EET
DTSTART:20261025T010000
END:STANDARD
BEGIN:DAYLIGHT
TZOFFSETFROM:+0200
TZOFFSETTO:+0300
TZNAME:EEST
DTSTART:20270328T010000
END:DAYLIGHT
BEGIN:STANDARD
TZOFFSETFROM:+0300
TZOFFSETTO:+0200
TZNAME:EET
DTSTART:20271031T010000
END:STANDARD
END:VTIMEZONE
BEGIN:VEVENT
DTSTART;TZID=Europe/Helsinki:20260423T200000
DTEND;TZID=Europe/Helsinki:20260423T220000
DTSTAMP:20260421T141506
CREATED:20260228T094422Z
LAST-MODIFIED:20260228T095837Z
UID:1191-1776974400-1776981600@cecourt.ch
SUMMARY:Coupe interne - tour préliminaire
DESCRIPTION:
URL:https://cecourt.ch/evenement/coupe-interne-tour-preliminaire/
LOCATION:Local de jeu\, Rue de la Valle 19\, Court\, 2738\, Switzerland
CATEGORIES:Coupe interne
ORGANIZER;CN="Nicolas Fortier (CEC)":MAILTO:nicolas.fortier@net2000.ch
END:VEVENT
BEGIN:VEVENT
DTSTART;TZID=Europe/Helsinki:20260502T140000
DTEND;TZID=Europe/Helsinki:20260502T180000
DTSTAMP:20260421T141506
CREATED:20260228T105636Z
LAST-MODIFIED:20260228T105636Z
UID:1230-1777730400-1777744800@cecourt.ch
SUMMARY:Tournoi amateur d'échecs
DESCRIPTION:
URL:https://cecourt.ch/evenement/tournoi-amateur-dechecs/
LOCATION:Local de jeu\, Rue de la Valle 19\, Court\, 2738\, Switzerland
CATEGORIES:Tournois régionaux
ORGANIZER;CN="Studio ie2":MAILTO:contact@studio-ie2.ch
END:VEVENT
BEGIN:VEVENT
DTSTART;TZID=Europe/Helsinki:20260507T200000
DTEND;TZID=Europe/Helsinki:20260507T220000
DTSTAMP:20260421T141506
CREATED:20260228T104409Z
LAST-MODIFIED:20260228T104409Z
UID:1222-1778184000-1778191200@cecourt.ch
SUMMARY:Tournoi blitz 2
DESCRIPTION:
URL:https://cecourt.ch/evenement/tournoi-blitz-2/
LOCATION:Local de jeu\, Rue de la Valle 19\, Court\, 2738\, Switzerland
CATEGORIES:Tournois blitz
ORGANIZER;CN="Nicolas Fortier (CEC)":MAILTO:nicolas.fortier@net2000.ch
END:VEVENT
BEGIN:VEVENT
DTSTART;TZID=Europe/Helsinki:20260509T140000
DTEND;TZID=Europe/Helsinki:20260509T180000
DTSTAMP:20260421T141506
CREATED:20260228T112430Z
LAST-MODIFIED:20260228T112430Z
UID:1241-1778335200-1778349600@cecourt.ch
SUMMARY:CSE - Ronde 3
DESCRIPTION:Matchs :\n\n2LR : Trümmerfeld 1 – Court 2 (e)\n3LR : Court 3 – Olten 3 (d)\n\n*d =  domicile / e = extérieur*
URL:https://cecourt.ch/evenement/cse-ronde-3-3/
CATEGORIES:CSE
END:VEVENT
BEGIN:VEVENT
DTSTART;VALUE=DATE:20260510
DTEND;VALUE=DATE:20260511
DTSTAMP:20260421T141506
CREATED:20260228T115319Z
LAST-MODIFIED:20260228T120210Z
UID:1255-1778371200-1778457599@cecourt.ch
SUMMARY:CSE - Ronde 3 LNB
DESCRIPTION:Match :\nLNB\, Ouest : Court 1 – Riehen 2 (d) \n*d =  domicile / e = extérieur*
URL:https://cecourt.ch/evenement/cse-ronde-3-lnb/
LOCATION:Local de jeu\, Rue de la Valle 19\, Court\, 2738\, Switzerland
CATEGORIES:CSE
END:VEVENT
BEGIN:VEVENT
DTSTART;TZID=Europe/Helsinki:20260521T200000
DTEND;TZID=Europe/Helsinki:20260521T213000
DTSTAMP:20260421T141506
CREATED:20260228T102736Z
LAST-MODIFIED:20260331T151606Z
UID:1211-1779393600-1779399000@cecourt.ch
SUMMARY:Cours avec Christophe Rohrer
DESCRIPTION:
URL:https://cecourt.ch/evenement/cours-avec-christophe-rohrer-3/
LOCATION:Local de jeu\, Rue de la Valle 19\, Court\, 2738\, Switzerland
CATEGORIES:Cours Rohrer
END:VEVENT
BEGIN:VEVENT
DTSTART;TZID=Europe/Helsinki:20260606T140000
DTEND;TZID=Europe/Helsinki:20260606T180000
DTSTAMP:20260421T141506
CREATED:20260228T112610Z
LAST-MODIFIED:20260228T112610Z
UID:1243-1780754400-1780768800@cecourt.ch
SUMMARY:CSE - Ronde 4
DESCRIPTION:Matchs :\n\n2LR : Jura 1 – Court 2 (e)\n3LR : Rhy 1 – Court 3 (e)\n\n*d =  domicile / e = extérieur*
URL:https://cecourt.ch/evenement/cse-ronde-4-2/
CATEGORIES:CSE
END:VEVENT
BEGIN:VEVENT
DTSTART;VALUE=DATE:20260607
DTEND;VALUE=DATE:20260608
DTSTAMP:20260421T141506
CREATED:20260228T115436Z
LAST-MODIFIED:20260228T115436Z
UID:1257-1780790400-1780876799@cecourt.ch
SUMMARY:CSE - Ronde 4 LNB
DESCRIPTION:Match :\nLNB\, Ouest : Vevey 1 – Court 1 (e) \n*d =  domicile / e = extérieur*
URL:https://cecourt.ch/evenement/cse-ronde-4-lnb/
CATEGORIES:CSE
END:VEVENT
BEGIN:VEVENT
DTSTART;TZID=Europe/Helsinki:20260611T200000
DTEND;TZID=Europe/Helsinki:20260611T213000
DTSTAMP:20260421T141506
CREATED:20260228T102838Z
LAST-MODIFIED:20260228T102838Z
UID:1213-1781208000-1781213400@cecourt.ch
SUMMARY:Cours avec Christophe Rohrer
DESCRIPTION:
URL:https://cecourt.ch/evenement/cours-avec-christophe-rohrer-4/
LOCATION:Local de jeu\, Rue de la Valle 19\, Court\, 2738\, Switzerland
CATEGORIES:Cours Rohrer
END:VEVENT
BEGIN:VEVENT
DTSTART;TZID=Europe/Helsinki:20260611T200000
DTEND;TZID=Europe/Helsinki:20260611T220000
DTSTAMP:20260421T141506
CREATED:20260228T095801Z
LAST-MODIFIED:20260228T095801Z
UID:1193-1781208000-1781215200@cecourt.ch
SUMMARY:Coupe interne - 1/4 finale
DESCRIPTION:
URL:https://cecourt.ch/evenement/coupe-interne-1-4-finale/
LOCATION:Local de jeu\, Rue de la Valle 19\, Court\, 2738\, Switzerland
CATEGORIES:Coupe interne
ORGANIZER;CN="Nicolas Fortier (CEC)":MAILTO:nicolas.fortier@net2000.ch
END:VEVENT
BEGIN:VEVENT
DTSTART;VALUE=DATE:20260619
DTEND;VALUE=DATE:20260622
DTSTAMP:20260421T141506
CREATED:20260117T100840Z
LAST-MODIFIED:20260117T100840Z
UID:1185-1781827200-1782086399@cecourt.ch
SUMMARY:Fête du village de Court
DESCRIPTION:Le club d’échecs de Court avec son stand est présent tout le long de la fête du village de Court et vous propose de la cuisine Thaïlandaise\, ainsi que de quoi vous désaltérer.
URL:https://cecourt.ch/evenement/fete-du-village-de-court/
LOCATION:Grange Gobat Pierre-Henri\, Rue de la Valle 8\, Court\, 2738\, Suisse
END:VEVENT
BEGIN:VEVENT
DTSTART;TZID=Europe/Helsinki:20260620T140000
DTEND;TZID=Europe/Helsinki:20260620T180000
DTSTAMP:20260421T141506
CREATED:20260228T112837Z
LAST-MODIFIED:20260228T112837Z
UID:1245-1781964000-1781978400@cecourt.ch
SUMMARY:CSE - Ronde 5
DESCRIPTION:Matchs :\n\n2LR : Court 2 – La Chaux-de-Fonds 1 (d)\n3LR : Court 3 – Riehen 5 (d)\n\n*d =  domicile / e = extérieur*
URL:https://cecourt.ch/evenement/cse-ronde-5-2/
LOCATION:Local de jeu\, Rue de la Valle 19\, Court\, 2738\, Switzerland
CATEGORIES:CSE
END:VEVENT
BEGIN:VEVENT
DTSTART;VALUE=DATE:20260621
DTEND;VALUE=DATE:20260622
DTSTAMP:20260421T141506
CREATED:20260228T115608Z
LAST-MODIFIED:20260228T115608Z
UID:1259-1782000000-1782086399@cecourt.ch
SUMMARY:CSE - Ronde 5 LNB
DESCRIPTION:Match :\nLNB\, Ouest : Nyon 2 – Court 1 (e) \n*d =  domicile / e = extérieur*
URL:https://cecourt.ch/evenement/cse-ronde-5-lnb/
CATEGORIES:CSE
END:VEVENT
BEGIN:VEVENT
DTSTART;TZID=Europe/Helsinki:20260625T200000
DTEND;TZID=Europe/Helsinki:20260625T220000
DTSTAMP:20260421T141506
CREATED:20260228T104528Z
LAST-MODIFIED:20260228T104528Z
UID:1224-1782417600-1782424800@cecourt.ch
SUMMARY:Tournoi blitz 3
DESCRIPTION:
URL:https://cecourt.ch/evenement/tournoi-blitz-3/
LOCATION:Local de jeu\, Rue de la Valle 19\, Court\, 2738\, Switzerland
CATEGORIES:Tournois blitz
ORGANIZER;CN="Nicolas Fortier (CEC)":MAILTO:nicolas.fortier@net2000.ch
END:VEVENT
BEGIN:VEVENT
DTSTART;TZID=Europe/Helsinki:20260822T140000
DTEND;TZID=Europe/Helsinki:20260822T180000
DTSTAMP:20260421T141506
CREATED:20260228T113018Z
LAST-MODIFIED:20260228T113018Z
UID:1247-1787407200-1787421600@cecourt.ch
SUMMARY:CSE - Ronde 6
DESCRIPTION:Matchs :\n\n2LR : Court 2 – Mett-Madretsch 1 (d)\n3LR : Court 3 – Birseck 3 (d)\n\n*d =  domicile / e = extérieur*
URL:https://cecourt.ch/evenement/cse-ronde-6-2/
LOCATION:Local de jeu\, Rue de la Valle 19\, Court\, 2738\, Switzerland
CATEGORIES:CSE
END:VEVENT
BEGIN:VEVENT
DTSTART;VALUE=DATE:20260823
DTEND;VALUE=DATE:20260824
DTSTAMP:20260421T141506
CREATED:20260228T120050Z
LAST-MODIFIED:20260228T120309Z
UID:1261-1787443200-1787529599@cecourt.ch
SUMMARY:CSE - Ronde 6 LNB
DESCRIPTION:Match :\nLNB\, Ouest : Court 1 – La Garde du Roi 1 (d) \n*d =  domicile / e = extérieur*
URL:https://cecourt.ch/evenement/cse-ronde-6-lnb/
LOCATION:Local de jeu\, Rue de la Valle 19\, Court\, 2738\, Switzerland
CATEGORIES:CSE
END:VEVENT
BEGIN:VEVENT
DTSTART;TZID=Europe/Helsinki:20260910T200000
DTEND;TZID=Europe/Helsinki:20260910T220000
DTSTAMP:20260421T141506
CREATED:20260228T104715Z
LAST-MODIFIED:20260228T104715Z
UID:1226-1789070400-1789077600@cecourt.ch
SUMMARY:Tournoi blitz 4
DESCRIPTION:
URL:https://cecourt.ch/evenement/tournoi-blitz-4/
LOCATION:Local de jeu\, Rue de la Valle 19\, Court\, 2738\, Switzerland
CATEGORIES:Tournois blitz
ORGANIZER;CN="Nicolas Fortier (CEC)":MAILTO:nicolas.fortier@net2000.ch
END:VEVENT
BEGIN:VEVENT
DTSTART;TZID=Europe/Helsinki:20260912T140000
DTEND;TZID=Europe/Helsinki:20260912T180000
DTSTAMP:20260421T141506
CREATED:20260228T113155Z
LAST-MODIFIED:20260228T113155Z
UID:1249-1789221600-1789236000@cecourt.ch
SUMMARY:CSE - Ronde 7
DESCRIPTION:Matchs :\n\n2LR : Therwil 1 – Court 2 (e)\n3LR : Olten 4 – Court 3 (e)\n\n*d =  domicile / e = extérieur*
URL:https://cecourt.ch/evenement/cse-ronde-7-2/
CATEGORIES:CSE
END:VEVENT
BEGIN:VEVENT
DTSTART;VALUE=DATE:20260913
DTEND;VALUE=DATE:20260914
DTSTAMP:20260421T141506
CREATED:20260228T120442Z
LAST-MODIFIED:20260228T120442Z
UID:1263-1789257600-1789343999@cecourt.ch
SUMMARY:CSE - Ronde 7 LNB
DESCRIPTION:Match :\nLNB\, Ouest : Genève 2 – Court 1 (e) \n*d =  domicile / e = extérieur*
URL:https://cecourt.ch/evenement/cse-ronde-7-lnb/
CATEGORIES:CSE
END:VEVENT
BEGIN:VEVENT
DTSTART;VALUE=DATE:20261003
DTEND;VALUE=DATE:20261004
DTSTAMP:20260421T141506
CREATED:20260228T120727Z
LAST-MODIFIED:20260228T120727Z
UID:1265-1790985600-1791071999@cecourt.ch
SUMMARY:CSE - Ronde 8 LNB
DESCRIPTION:Match :\nLNB\, Ouest : Court 1 – Bern 1 (d) \n*d =  domicile / e = extérieur*
URL:https://cecourt.ch/evenement/cse-ronde-8-lnb/
LOCATION:Local de jeu\, Rue de la Valle 19\, Court\, 2738\, Switzerland
CATEGORIES:CSE
END:VEVENT
BEGIN:VEVENT
DTSTART;VALUE=DATE:20261004
DTEND;VALUE=DATE:20261005
DTSTAMP:20260421T141506
CREATED:20260228T121005Z
LAST-MODIFIED:20260228T121005Z
UID:1267-1791072000-1791158399@cecourt.ch
SUMMARY:CSE - Ronde 9 LNB
DESCRIPTION:Match :\nLNB\, Ouest : Solothurn 1 – Court 1 (e) \n*d =  domicile / e = extérieur*
URL:https://cecourt.ch/evenement/cse-ronde-9-lnb/
CATEGORIES:CSE
END:VEVENT
BEGIN:VEVENT
DTSTART;TZID=Europe/Helsinki:20261008T200000
DTEND;TZID=Europe/Helsinki:20261008T220000
DTSTAMP:20260421T141506
CREATED:20260228T100133Z
LAST-MODIFIED:20260228T100133Z
UID:1196-1791489600-1791496800@cecourt.ch
SUMMARY:Coupe interne - 1/2 finale
DESCRIPTION:
URL:https://cecourt.ch/evenement/coupe-interne-1-2-finale/
LOCATION:Local de jeu\, Rue de la Valle 19\, Court\, 2738\, Switzerland
CATEGORIES:Coupe interne
ORGANIZER;CN="Nicolas Fortier (CEC)":MAILTO:nicolas.fortier@net2000.ch
END:VEVENT
BEGIN:VEVENT
DTSTART;TZID=Europe/Helsinki:20261029T200000
DTEND;TZID=Europe/Helsinki:20261029T220000
DTSTAMP:20260421T141506
CREATED:20260228T104817Z
LAST-MODIFIED:20260228T104817Z
UID:1228-1793304000-1793311200@cecourt.ch
SUMMARY:Tournoi blitz 5
DESCRIPTION:
URL:https://cecourt.ch/evenement/tournoi-blitz-5/
LOCATION:Local de jeu\, Rue de la Valle 19\, Court\, 2738\, Switzerland
CATEGORIES:Tournois blitz
ORGANIZER;CN="Nicolas Fortier (CEC)":MAILTO:nicolas.fortier@net2000.ch
END:VEVENT
BEGIN:VEVENT
DTSTART;TZID=Europe/Helsinki:20261203T200000
DTEND;TZID=Europe/Helsinki:20261203T220000
DTSTAMP:20260421T141506
CREATED:20260228T100230Z
LAST-MODIFIED:20260228T100230Z
UID:1198-1796328000-1796335200@cecourt.ch
SUMMARY:Coupe interne - finale
DESCRIPTION:
URL:https://cecourt.ch/evenement/coupe-interne-finale/
LOCATION:Local de jeu\, Rue de la Valle 19\, Court\, 2738\, Switzerland
CATEGORIES:Coupe interne
ORGANIZER;CN="Nicolas Fortier (CEC)":MAILTO:nicolas.fortier@net2000.ch
END:VEVENT
END:VCALENDAR