BEGIN:VCALENDAR
VERSION:2.0
PRODID:-//Club d&#039;Échecs de Court - ECPv6.15.18//NONSGML v1.0//EN
CALSCALE:GREGORIAN
METHOD:PUBLISH
X-ORIGINAL-URL:https://cecourt.ch
X-WR-CALDESC:Évènements pour Club d&#039;Échecs de Court
REFRESH-INTERVAL;VALUE=DURATION:PT1H
X-Robots-Tag:noindex
X-PUBLISHED-TTL:PT1H
BEGIN:VTIMEZONE
TZID:Europe/Helsinki
BEGIN:DAYLIGHT
TZOFFSETFROM:+0200
TZOFFSETTO:+0300
TZNAME:EEST
DTSTART:20240331T010000
END:DAYLIGHT
BEGIN:STANDARD
TZOFFSETFROM:+0300
TZOFFSETTO:+0200
TZNAME:EET
DTSTART:20241027T010000
END:STANDARD
BEGIN:DAYLIGHT
TZOFFSETFROM:+0200
TZOFFSETTO:+0300
TZNAME:EEST
DTSTART:20250330T010000
END:DAYLIGHT
BEGIN:STANDARD
TZOFFSETFROM:+0300
TZOFFSETTO:+0200
TZNAME:EET
DTSTART:20251026T010000
END:STANDARD
BEGIN:DAYLIGHT
TZOFFSETFROM:+0200
TZOFFSETTO:+0300
TZNAME:EEST
DTSTART:20260329T010000
END:DAYLIGHT
BEGIN:STANDARD
TZOFFSETFROM:+0300
TZOFFSETTO:+0200
TZNAME:EET
DTSTART:20261025T010000
END:STANDARD
END:VTIMEZONE
BEGIN:VEVENT
DTSTART;TZID=Europe/Helsinki:20250104T133000
DTEND;TZID=Europe/Helsinki:20250104T200000
DTSTAMP:20260422T162807
CREATED:20250101T094022Z
LAST-MODIFIED:20250101T094045Z
UID:969-1735997400-1736020800@cecourt.ch
SUMMARY:Jass du petit Nouvel-An
DESCRIPTION:
URL:https://cecourt.ch/evenement/jass-du-petit-nouvel-an/
LOCATION:Commune de Court\, Rue de la Valle 19\, Court\, Berne\, 2738\, Switzerland
END:VEVENT
BEGIN:VEVENT
DTSTART;TZID=Europe/Helsinki:20250111T140000
DTEND;TZID=Europe/Helsinki:20250111T180000
DTSTAMP:20260422T162807
CREATED:20240924T132657Z
LAST-MODIFIED:20240924T132657Z
UID:673-1736604000-1736618400@cecourt.ch
SUMMARY:CSG - Ronde 4
DESCRIPTION:1LR : Porrentruy Echiquier Bruntrutain 1 – Court 1 (e) \n2LR : Trümmerfeld 2 – Court 2 (e) \n3LR : Court 3 – Biel SK 1 (d)
URL:https://cecourt.ch/evenement/csg-ronde-4/
END:VEVENT
BEGIN:VEVENT
DTSTART;TZID=Europe/Helsinki:20250125T140000
DTEND;TZID=Europe/Helsinki:20250125T180000
DTSTAMP:20260422T162807
CREATED:20250101T090427Z
LAST-MODIFIED:20250101T090552Z
UID:962-1737813600-1737828000@cecourt.ch
SUMMARY:CSG - Ronde 5
DESCRIPTION:1LR : Brugg 1 – Court 1 (e) \n2LR : Court 2 – Mett-Madretsch 1 (d) \n3LR : Court 3 – Neuchâtel 3 (d)
URL:https://cecourt.ch/evenement/csg-ronde-5-2/
END:VEVENT
END:VCALENDAR