BEGIN:VCALENDAR
VERSION:2.0
PRODID:-//Club d&#039;Échecs de Court - ECPv6.15.18//NONSGML v1.0//EN
CALSCALE:GREGORIAN
METHOD:PUBLISH
X-ORIGINAL-URL:https://cecourt.ch
X-WR-CALDESC:Évènements pour Club d&#039;Échecs de Court
REFRESH-INTERVAL;VALUE=DURATION:PT1H
X-Robots-Tag:noindex
X-PUBLISHED-TTL:PT1H
BEGIN:VTIMEZONE
TZID:Europe/Helsinki
BEGIN:DAYLIGHT
TZOFFSETFROM:+0200
TZOFFSETTO:+0300
TZNAME:EEST
DTSTART:20240331T010000
END:DAYLIGHT
BEGIN:STANDARD
TZOFFSETFROM:+0300
TZOFFSETTO:+0200
TZNAME:EET
DTSTART:20241027T010000
END:STANDARD
BEGIN:DAYLIGHT
TZOFFSETFROM:+0200
TZOFFSETTO:+0300
TZNAME:EEST
DTSTART:20250330T010000
END:DAYLIGHT
BEGIN:STANDARD
TZOFFSETFROM:+0300
TZOFFSETTO:+0200
TZNAME:EET
DTSTART:20251026T010000
END:STANDARD
BEGIN:DAYLIGHT
TZOFFSETFROM:+0200
TZOFFSETTO:+0300
TZNAME:EEST
DTSTART:20260329T010000
END:DAYLIGHT
BEGIN:STANDARD
TZOFFSETFROM:+0300
TZOFFSETTO:+0200
TZNAME:EET
DTSTART:20261025T010000
END:STANDARD
END:VTIMEZONE
BEGIN:VEVENT
DTSTART;TZID=Europe/Helsinki:20250517T140000
DTEND;TZID=Europe/Helsinki:20250517T180000
DTSTAMP:20260422T094308
CREATED:20250407T105354Z
LAST-MODIFIED:20250407T110654Z
UID:1003-1747490400-1747504800@cecourt.ch
SUMMARY:CSE - Ronde 4
DESCRIPTION:Matchs :\n\n1LR : Riehen 3 – Court 1 (e)\n2LR : Biel 1 – Court 2 (e)\n4LR : Court 3 – Neuchâtel 4 (d)\n\n*d =  domicile / e = extérieur*
URL:https://cecourt.ch/evenement/cse-ronde-4/
END:VEVENT
BEGIN:VEVENT
DTSTART;TZID=Europe/Helsinki:20250522T200000
DTEND;TZID=Europe/Helsinki:20250522T220000
DTSTAMP:20260422T094308
CREATED:20250409T065433Z
LAST-MODIFIED:20250409T065540Z
UID:1054-1747944000-1747951200@cecourt.ch
SUMMARY:Quarts de finale - Coupe interne
DESCRIPTION:Selon courriel reçu
URL:https://cecourt.ch/evenement/quart-de-finale-coupe-interne/
LOCATION:Local de jeu\, Rue de la Valle 19\, Court\, 2738\, Switzerland
END:VEVENT
END:VCALENDAR