BEGIN:VCALENDAR
VERSION:2.0
PRODID:-//Club d&#039;Échecs de Court - ECPv6.15.18//NONSGML v1.0//EN
CALSCALE:GREGORIAN
METHOD:PUBLISH
X-ORIGINAL-URL:https://cecourt.ch
X-WR-CALDESC:Évènements pour Club d&#039;Échecs de Court
REFRESH-INTERVAL;VALUE=DURATION:PT1H
X-Robots-Tag:noindex
X-PUBLISHED-TTL:PT1H
BEGIN:VTIMEZONE
TZID:Europe/Helsinki
BEGIN:DAYLIGHT
TZOFFSETFROM:+0200
TZOFFSETTO:+0300
TZNAME:EEST
DTSTART:20250330T010000
END:DAYLIGHT
BEGIN:STANDARD
TZOFFSETFROM:+0300
TZOFFSETTO:+0200
TZNAME:EET
DTSTART:20251026T010000
END:STANDARD
BEGIN:DAYLIGHT
TZOFFSETFROM:+0200
TZOFFSETTO:+0300
TZNAME:EEST
DTSTART:20260329T010000
END:DAYLIGHT
BEGIN:STANDARD
TZOFFSETFROM:+0300
TZOFFSETTO:+0200
TZNAME:EET
DTSTART:20261025T010000
END:STANDARD
BEGIN:DAYLIGHT
TZOFFSETFROM:+0200
TZOFFSETTO:+0300
TZNAME:EEST
DTSTART:20270328T010000
END:DAYLIGHT
BEGIN:STANDARD
TZOFFSETFROM:+0300
TZOFFSETTO:+0200
TZNAME:EET
DTSTART:20271031T010000
END:STANDARD
END:VTIMEZONE
BEGIN:VEVENT
DTSTART;TZID=Europe/Helsinki:20260103T140000
DTEND;TZID=Europe/Helsinki:20260103T200000
DTSTAMP:20260421T210243
CREATED:20260117T100323Z
LAST-MODIFIED:20260117T100323Z
UID:1183-1767448800-1767470400@cecourt.ch
SUMMARY:Jass du Petit Nouvel-An
DESCRIPTION:
URL:https://cecourt.ch/evenement/jass-du-petit-nouvel-an-2/
LOCATION:Commune de Court\, Rue de la Valle 19\, Court\, Berne\, 2738\, Switzerland
END:VEVENT
BEGIN:VEVENT
DTSTART;TZID=Europe/Helsinki:20260117T100000
DTEND;TZID=Europe/Helsinki:20260117T183000
DTSTAMP:20260421T210243
CREATED:20260117T094827Z
LAST-MODIFIED:20260117T094827Z
UID:1172-1768644000-1768674600@cecourt.ch
SUMMARY:CSJE - Rondes 3 & 4 - LNB
DESCRIPTION:10h00 : Court 1 – Thunersee 1 \n14h00 : Olten 1 – Court 1
URL:https://cecourt.ch/evenement/csje-rondes-3-4-lnb/
LOCATION:Local de jeu\, Rue de la Valle 19\, Court\, 2738\, Switzerland
END:VEVENT
BEGIN:VEVENT
DTSTART;TZID=Europe/Helsinki:20260124T140000
DTEND;TZID=Europe/Helsinki:20260124T180000
DTSTAMP:20260421T210243
CREATED:20260117T095130Z
LAST-MODIFIED:20260117T095130Z
UID:1174-1769263200-1769277600@cecourt.ch
SUMMARY:CSG - Ronde 4
DESCRIPTION:Matchs :\n\n1LR : SG Riehen 2 – Court 1 (e)\n2LR : Court 2 – Grenchen 1 (d)\n3LR : Court 3 – Neuchâtel 2 (d)\n\n*d =  domicile / e = extérieur*
URL:https://cecourt.ch/evenement/csg-ronde-4-2/
END:VEVENT
BEGIN:VEVENT
DTSTART;TZID=Europe/Helsinki:20260130T183000
DTEND;TZID=Europe/Helsinki:20260130T200000
DTSTAMP:20260421T210243
CREATED:20260117T101139Z
LAST-MODIFIED:20260129T160623Z
UID:1187-1769797800-1769803200@cecourt.ch
SUMMARY:Assemblée générale 2026 du CE Court
DESCRIPTION:selon infos reçus par courriel
URL:https://cecourt.ch/evenement/assemblee-generale-2026-du-ce-court/
LOCATION:Local de jeu\, Rue de la Valle 19\, Court\, 2738\, Switzerland
END:VEVENT
END:VCALENDAR